BEGIN:VCALENDAR
VERSION:2.0
PRODID:-//ChamberMaster//Event Calendar 2.0//EN
METHOD:PUBLISH
X-PUBLISHED-TTL:P3D
REFRESH-INTERVAL:P3D
CALSCALE:GREGORIAN
BEGIN:VEVENT
DTSTART:20230625T220000Z
DTEND:20230626T020000Z
X-MICROSOFT-CDO-ALLDAYEVENT:FALSE
SUMMARY:Theatre West's Garden Walk
DESCRIPTION:Welcome!!!\n\n2023 Theatre West Garden Walk\n\n\n\nTheatre West is delighted to again be able to open the garden gates to five local gardens/landscapes on Sunday\, June 25\, 2023\n\n\n\nWith concerns for the safety of homeowners as well as for walkers\, we have made some modifications implemented in 2021.  Five residences will be featured.  Being outdoors for the garden walk will allow for greater social distancing.\n\n\n\nSome changes and special modifications have been established to make the walk enjoyable for all involved.\n\n	The only site where tickets will be sold is at 2609 4th Avenue\, Scottsbluff.  Tickets should be purchased ahead of time at local nurseries or other designated sites.\n	A variety of prizes will again be provided for participants to win\, but only one ticket will need to be filled out.  Please do so before the walk since pencils/pens will not be provided.  The box for the tickets will be located at the 2609 4th Avenue site.\n	Bottled water will be provided at 2609 4th Avenue\, Scottsbluff and 355 K Street\, Gering.\n	Tickets will be checked at each site.
X-ALT-DESC;FMTTYPE=text/html:Welcome!!!<br />\n2023 Theatre West Garden Walk<br />\n<br />\nTheatre West is delighted to again be able to open the garden gates to five local gardens/landscapes on Sunday\, June 25\, 2023<br />\n<br />\nWith concerns for the safety of homeowners as well as for walkers\, we have made some modifications implemented in 2021.&nbsp\; Five residences will be featured.&nbsp\; Being outdoors for the garden walk will allow for greater social distancing.<br />\n<br />\nSome changes and special modifications have been established to make the walk enjoyable for all involved.\n<ul>\n	<li>The only site where tickets will be sold is at 2609 4th Avenue\, Scottsbluff.&nbsp\; Tickets should be purchased ahead of time at local nurseries or other designated sites.</li>\n	<li>A variety of prizes will again be provided for participants to win\, but only one ticket will need to be filled out.&nbsp\; Please do so before the walk since pencils/pens will not be provided.&nbsp\; The box for the tickets will be located at the 2609 4th Avenue site.</li>\n	<li>Bottled water will be provided at 2609 4th Avenue\, Scottsbluff and 355 K Street\, Gering.</li>\n	<li>Tickets will be checked at each site.</li>\n</ul>\n
LOCATION:
UID:e.1913.10021
SEQUENCE:3
DTSTAMP:20260423T181745Z
URL:https://business.scottsbluffgering.net/events/details/theatre-west-s-garden-walk-10021
END:VEVENT

END:VCALENDAR
