BEGIN:VCALENDAR
VERSION:2.0
PRODID:-//ChamberMaster//Event Calendar 2.0//EN
METHOD:PUBLISH
X-PUBLISHED-TTL:P3D
REFRESH-INTERVAL:P3D
CALSCALE:GREGORIAN
BEGIN:VEVENT
DTSTART:20230624T200000Z
DTEND:20230624T213000Z
X-MICROSOFT-CDO-ALLDAYEVENT:FALSE
SUMMARY:The Odd Couple presented by Theatre West
DESCRIPTION:The Odd Couple\n\n\n\nThis comedy centers around uptight\, neat Felix Ungar and easygoing\, disheveled Oscar Madison as new roommates. This classic comedy opens as a group of the guys assemble for cards in the apartment of divorced Oscar Madison. And if the mess is any indication\, it's no wonder that his wife left him. Late to arrive is Felix Unger\, who has just been separated from his wife. Fastidious\, depressed\, and none too tense\, Felix seems suicidal\, but as the action unfolds\, Oscar becomes the one with murder on his mind when the clean freak and the slob ultimately decide to room together with hilarious results as The Odd Couple is born.
X-ALT-DESC;FMTTYPE=text/html:The Odd Couple<br />\n<br />\nThis comedy centers around uptight\, neat Felix Ungar and easygoing\, disheveled Oscar Madison as new roommates. This classic comedy opens as a group of the guys assemble for cards in the apartment of divorced Oscar Madison. And if the mess is any indication\, it&rsquo\;s no wonder that his wife left him. Late to arrive is Felix Unger\, who has just been separated from his wife. Fastidious\, depressed\, and none too tense\, Felix seems suicidal\, but as the action unfolds\, Oscar becomes the one with murder on his mind when the clean freak and the slob ultimately decide to room together with hilarious results as The Odd Couple is born.
LOCATION:Theatre West 1601 E 27th Street Scottsbluff
UID:e.1913.10033
SEQUENCE:3
DTSTAMP:20260423T181928Z
URL:https://business.scottsbluffgering.net/events/details/the-odd-couple-presented-by-theatre-west-10033
END:VEVENT

END:VCALENDAR
