BEGIN:VCALENDAR
VERSION:2.0
PRODID:-//ChamberMaster//Event Calendar 2.0//EN
METHOD:PUBLISH
X-PUBLISHED-TTL:P3D
REFRESH-INTERVAL:P3D
CALSCALE:GREGORIAN
BEGIN:VEVENT
DTSTART:20230623T013000Z
DTEND:20230623T030000Z
X-MICROSOFT-CDO-ALLDAYEVENT:FALSE
SUMMARY:The Odd Couple (Female Version) presented by Theatre West
DESCRIPTION:The Odd Couple Female Version\n\n\n\nUnger and Madison are at it again! Florence Unger and Olive Madison\, that is\, in Neil Simon's hilarious contemporary comic classic: the female version of The Odd Couple. Instead of the poker party that begins the original version\, Ms. Madison has invited the girls over for an evening of Trivial Pursuit. The Pidgeon sisters have been replaced by the two Constanzuela brothers. But the hilarity remains the same.
X-ALT-DESC;FMTTYPE=text/html:The Odd Couple Female Version<br />\n<br />\nUnger and Madison are at it again! Florence Unger and Olive Madison\, that is\, in Neil Simon&rsquo\;s hilarious contemporary comic classic: the female version of The Odd Couple. Instead of the poker party that begins the original version\, Ms. Madison has invited the girls over for an evening of Trivial Pursuit. The Pidgeon sisters have been replaced by the two Constanzuela brothers. But the hilarity remains the same.
LOCATION:Theatre West 1601 E 27th Street Scottsbluff
UID:e.1913.10028
SEQUENCE:3
DTSTAMP:20260423T181945Z
URL:https://business.scottsbluffgering.net/events/details/the-odd-couple-female-version-presented-by-theatre-west-10028
END:VEVENT

END:VCALENDAR
