BEGIN:VCALENDAR
VERSION:2.0
PRODID:-//ChamberMaster//Event Calendar 2.0//EN
METHOD:PUBLISH
X-PUBLISHED-TTL:P3D
REFRESH-INTERVAL:P3D
CALSCALE:GREGORIAN
BEGIN:VEVENT
DTSTART;VALUE=DATE:20200604
DTEND;VALUE=DATE:20200629
TRANSP:TRANSPARENT
X-MICROSOFT-CDO-ALLDAYEVENT:TRUE
SUMMARY:The Exquisite Art of Thread & Texture
DESCRIPTION:The Exquisite Art of Thread & Texture is an extraordinary mixture of fabric art and mixed media. The intense detail will astonish anyone who witnesses this breath-taking talent. This exhibition will be June 4th   28th. The opening reception will be June 18th at 5:00pm-7:00pm. This is unusual. The opening reception is usually on the opening day of the show. However\, due to COVID- 19 we want to make sure we are safe and achieve the best opening reception that we can. This reception is free and open to the public. We will be serving refreshments and hor d' oeuvres.
X-ALT-DESC;FMTTYPE=text/html:The Exquisite Art of Thread &amp\; Texture is an extraordinary mixture of fabric art and mixed media. The intense detail will astonish anyone who witnesses this breath-taking talent. This exhibition will be June 4th &ndash\; 28th. The opening reception will be June 18th at 5:00pm-7:00pm. This is unusual. The opening reception is usually on the opening day of the show. However\, due to COVID- 19 we want to make sure we are safe and achieve the best opening reception that we can. This reception is free and open to the public. We will be serving refreshments and hor d&rsquo\; oeuvres.
LOCATION:West Nebraska Arts Center 106 East 18th Street Scottsbluff\, NE 69361
UID:e.1913.9360
SEQUENCE:3
DTSTAMP:20260421T235355Z
URL:https://business.scottsbluffgering.net/events/details/the-exquisite-art-of-thread-texture-9360
END:VEVENT

END:VCALENDAR
