BEGIN:VCALENDAR
VERSION:2.0
PRODID:-//ChamberMaster//Event Calendar 2.0//EN
METHOD:PUBLISH
X-PUBLISHED-TTL:P3D
REFRESH-INTERVAL:P3D
CALSCALE:GREGORIAN
BEGIN:VEVENT
DTSTART;VALUE=DATE:20230729
DTEND;VALUE=DATE:20230806
TRANSP:TRANSPARENT
X-MICROSOFT-CDO-ALLDAYEVENT:TRUE
SUMMARY:Scotts Bluff County Fair 2023
DESCRIPTION:Save the Dates!\n\n\n\nMore information to follow!
X-ALT-DESC;FMTTYPE=text/html:Save the Dates!<br />\n<br />\nMore information to follow!
LOCATION:
UID:e.1913.9951
SEQUENCE:3
DTSTAMP:20260423T181746Z
URL:https://business.scottsbluffgering.net/events/details/scotts-bluff-county-fair-2023-9951
END:VEVENT

END:VCALENDAR
