BEGIN:VCALENDAR
VERSION:2.0
PRODID:-//ChamberMaster//Event Calendar 2.0//EN
METHOD:PUBLISH
X-PUBLISHED-TTL:P3D
REFRESH-INTERVAL:P3D
CALSCALE:GREGORIAN
BEGIN:VEVENT
DTSTART:20230601T230000Z
DTEND:20230602T010000Z
X-MICROSOFT-CDO-ALLDAYEVENT:FALSE
SUMMARY:Retrospect William J. Clark Reception
DESCRIPTION:The West Nebraska Arts Center\, with the support of Laura Clark\, the Nebraska Arts Council\, the Nebraska Cultural Endowment\, and the National Endowment for the Arts\, are pleased to present Retrospect by William J. Clark. The opening reception will be Thursday\, June 1st\, at 5pm   7pm. Two things were the very soul of Bill's life: photography and reading. We are proud to display his photography talent. He printed on several different surfaces. We will be presenting primarily black and white photography. Refreshments\, and hors d' oeuvres will be served. West Nebraska Arts Center will be displaying this artwork June 1   25\, 2023. Gallery hours are Tuesday - Friday from 9:00 a.m. to 5:00 p.m. and Saturday and Sunday from 1:00 to 5:00 p.m.
X-ALT-DESC;FMTTYPE=text/html:The West Nebraska Arts Center\, with the support of Laura Clark\, the Nebraska Arts Council\, the Nebraska Cultural Endowment\, and the National Endowment for the Arts\, are pleased to present Retrospect by William J. Clark. The opening reception will be Thursday\, June 1st\, at 5pm &ndash\; 7pm. Two things were the very soul of Bill&#39\;s life: photography and reading. We are proud to display his photography talent. He printed on several different surfaces. We will be presenting primarily black and white photography. Refreshments\, and hors d&rsquo\; oeuvres will be served. West Nebraska Arts Center will be displaying this artwork June 1 &ndash\; 25\, 2023. Gallery hours are Tuesday - Friday from 9:00 a.m. to 5:00 p.m. and Saturday and Sunday from 1:00 to 5:00 p.m.
LOCATION:West Nebraska Arts Center 106 East 18th Street Scottsbluff\, NE 69361
UID:e.1913.9999
SEQUENCE:3
DTSTAMP:20260423T181657Z
URL:https://business.scottsbluffgering.net/events/details/retrospect-william-j-clark-reception-9999
END:VEVENT

END:VCALENDAR
