BEGIN:VCALENDAR
VERSION:2.0
PRODID:-//ChamberMaster//Event Calendar 2.0//EN
METHOD:PUBLISH
X-PUBLISHED-TTL:P3D
REFRESH-INTERVAL:P3D
CALSCALE:GREGORIAN
BEGIN:VEVENT
DTSTART:20230612T003000Z
DTEND:20230612T003000Z
X-MICROSOFT-CDO-ALLDAYEVENT:FALSE
SUMMARY:PTSD 911 presented by Midwest Theater
DESCRIPTION:PTSD 911\n\n\n\nPTSD911 is a documentary film about real people: normal\, average human beings who have chosen to work in professions that require above average heroism\, fortitude\, and resolve.  These men and women have jobs that require a willingness to face things that most of us can't even imagine\, yet maintain a high level of dignity and professionalism.  First responders in fact repeatedly see and experience things that most of us will never see\, causing compound issues related to post-traumatic stress injuries and disorders.\n\n\n\nThere will be a special Meet and Greet\, Question and Answer session with Director Conrad Weaver and local first responders before the movie at 5:30 p.m.\n\n\n\nA portion of ticket fees goes toward helping first responders suffering from PTSD.
X-ALT-DESC;FMTTYPE=text/html:<strong>PTSD 911</strong><br />\n<br />\nPTSD911 is a documentary film about real people: normal\, average human beings who have chosen to work in professions that require above average heroism\, fortitude\, and resolve.&nbsp\; These men and women have jobs that require a willingness to face things that most of us can&#39\;t even imagine\, yet maintain a high level of dignity and professionalism.&nbsp\; First responders in fact repeatedly see and experience things that most of us will never see\, causing compound issues related to post-traumatic stress injuries and disorders.<br />\n<br />\nThere will be a special Meet and Greet\, Question and Answer session with Director Conrad Weaver and local first responders before the movie at 5:30 p.m.<br />\n<br />\nA portion of ticket fees goes toward helping first responders suffering from PTSD.
LOCATION:Midwest Theater 1707 Broadway Scottsbluff\, NE
UID:e.1913.10010
SEQUENCE:3
DTSTAMP:20260423T181745Z
URL:https://business.scottsbluffgering.net/events/details/ptsd-911-presented-by-midwest-theater-10010
END:VEVENT

END:VCALENDAR
