BEGIN:VCALENDAR
VERSION:2.0
PRODID:-//ChamberMaster//Event Calendar 2.0//EN
METHOD:PUBLISH
X-PUBLISHED-TTL:P3D
REFRESH-INTERVAL:P3D
CALSCALE:GREGORIAN
BEGIN:VEVENT
DTSTART:20230614T220000Z
DTEND:20230614T220000Z
X-MICROSOFT-CDO-ALLDAYEVENT:FALSE
SUMMARY:Pony Express Re-Ride @ Scotts Bluff National Monument
DESCRIPTION:The Pony Express Re-Ride @ Scotts Bluff National Monument\n\n\n\nGering\, NE     "Here comes the pony!" Every year\, the National Pony Express Association reignites the spirit and memory of the Pony Express during the Annual Re-Ride\, where letters are carried in a mochila by over 750 riders on the original Pony Express Trail. The 1\,966-mile\, eight state event is conducted 24 hours a day until the mail is delivered to its destination. This year\, the Re-Ride will be traveling east-bound from Sacramento\, California. To St. Joseph\, Missouri.  \n\n \n\nMonument volunteer Jerry Lucas will be set up inside visitor center theater on Wednesday\, June 14 starting at 4 p.m. to provide a short talk about the history of the Pony Express. Following the program\, see the Pony Express in action when the Annual Re-Ride stops at Scotts Bluff National Monument.  \n\n \n\nThe Re-Ride is expected to arrive at Scotts Bluff National Monument at 4:45 p.m. but can be early or late. Follow the ride at https://nationalponyexpress.org/annual-re-ride/follow-the-ride/ \n\n \n\nWhat:   Pony Express Program & Annual Re-Ride \n\nWhen:  Wednesday\, June 14\, 2023 \n\n            Program: 4:00 p.m.  \n\n            Re-Ride: ~4:45 p.m. \n\nWhere: Scotts Bluff National Monument Visitor Center Theater\, 190276 Old Oregon Trail\, Gering \n\nCost:    Free \n\n \n\n \n\nFurther information about Scotts Bluff National Monument programs and schedules are available at the visitor center\, by calling 308-436-9700 or by visiting our website at http://www.nps.gov/scbl/index.htm or Facebook at https://www.facebook.com/scottsbluffnps.
X-ALT-DESC;FMTTYPE=text/html:The Pony Express Re-Ride @ Scotts Bluff National Monument<br />\n<br />\n<span style="color:#000000\;"><span style="font-family:arial\,sans-serif\;"><span style="font-size:10.5pt\;">Gering\, NE &ndash\; &ndash\; &ldquo\;Here comes the pony!&rdquo\; Every year\, the National Pony Express Association reignites the spirit and memory of the Pony Express during the Annual Re-Ride\, where letters are carried in a mochila by over 750 riders on the original Pony Express Trail. The 1\,966-mile\, eight state event is conducted 24 hours a day until the mail is delivered to its destination. This year\, the Re-Ride will be traveling east-bound from Sacramento\, California. To St. Joseph\, Missouri. &nbsp\;</span></span><br />\n&nbsp\;<br />\n<span style="font-family:arial\,sans-serif\;"><span style="font-size:10.5pt\;">Monument volunteer Jerry Lucas will be set up inside visitor center theater on Wednesday\, June 14 starting at 4 p.m. to provide a short talk about the history of the Pony Express. Following the program\, see the Pony Express in action when the Annual Re-Ride stops at Scotts Bluff National Monument. &nbsp\;</span></span><br />\n&nbsp\;</span><br />\n<span style="font-family:arial\,sans-serif\;"><span style="font-size:10.5pt\;"><span style="color:#000000\;">The Re-Ride is expected to arrive at Scotts Bluff National Monument at 4:45 p.m. but can be early or late. Follow the ride at </span><strong><u><em><a href="https://nationalponyexpress.org/annual-re-ride/follow-the-ride/"><span style="color:#000000\;">https://nationalponyexpress.org/annual-re-ride/follow-the-ride/</span></a></em></u><span style="color:#000000\;">&nbsp\;</span></strong></span></span><br />\n<span style="color:#000000\;">&nbsp\;<br />\n<span style="font-family:arial\,sans-serif\;"><span style="font-size:10.5pt\;">What:&nbsp\;&nbsp\; Pony Express Program &amp\; Annual Re-Ride&nbsp\;</span></span><br />\n<span style="font-family:arial\,sans-serif\;"><span style="font-size:10.5pt\;">When:&nbsp\; Wednesday\, June 14\, 2023&nbsp\;</span></span><br />\n&nbsp\;&nbsp\;&nbsp\;&nbsp\;&nbsp\;&nbsp\;&nbsp\;&nbsp\;&nbsp\;&nbsp\;&nbsp\; <em><span style="font-family:arial\,sans-serif\;"><span style="font-size:10.5pt\;">Program: 4:00 p.m. &nbsp\;</span></span></em><br />\n<em><span style="font-family:arial\,sans-serif\;"><span style="font-size:10.5pt\;">&nbsp\;&nbsp\;&nbsp\;&nbsp\;&nbsp\;&nbsp\;&nbsp\;&nbsp\;&nbsp\;&nbsp\;&nbsp\; Re-Ride: ~4:45 p.m.&nbsp\;</span></span></em><br />\n<span style="font-family:arial\,sans-serif\;"><span style="font-size:10.5pt\;">Where: Scotts Bluff National Monument Visitor Center Theater\, 190276 Old Oregon Trail\, Gering&nbsp\;</span></span><br />\n<span style="font-family:arial\,sans-serif\;"><span style="font-size:10.5pt\;">Cost:&nbsp\;&nbsp\;&nbsp\; Free&nbsp\;</span></span><br />\n&nbsp\;<br />\n&nbsp\;</span><br />\n<span style="font-family:arial\,sans-serif\;"><span style="font-size:10.5pt\;"><span style="color:#000000\;">Further information about Scotts Bluff National Monument programs and schedules are available at the visitor center\, by calling 308-436-9700 or by visiting our website at </span><strong><em><u><a href="http://www.nps.gov/scbl/index.htm"><span style="color:#000000\;">http://www.nps.gov/scbl/index.htm</span></a></u></em></strong><span style="color:#000000\;"> or Facebook at </span><strong><em><u><a href="https://www.facebook.com/scottsbluffnps"><span style="color:#000000\;">https://www.facebook.com/scottsbluffnps</span></a></u></em></strong><span style="color:#000000\;">.&nbsp\;</span></span></span>
LOCATION:Scotts Bluff National Monument Visitors Center Theater 190276 Old Oregon Trail Gering\, NE 69341
UID:e.1913.10020
SEQUENCE:3
DTSTAMP:20260423T181857Z
URL:https://business.scottsbluffgering.net/events/details/pony-express-re-ride-scotts-bluff-national-monument-10020
END:VEVENT

END:VCALENDAR
