BEGIN:VCALENDAR
VERSION:2.0
PRODID:-//ChamberMaster//Event Calendar 2.0//EN
METHOD:PUBLISH
X-PUBLISHED-TTL:P3D
REFRESH-INTERVAL:P3D
CALSCALE:GREGORIAN
BEGIN:VEVENT
DTSTART:20170504T013000Z
DTEND:20170504T013000Z
X-MICROSOFT-CDO-ALLDAYEVENT:FALSE
SUMMARY:Midwest Theater presents "The Texas Tenors"
DESCRIPTION:With their Emmy Award winning PBS special now airing across the country\, and Billboard chart topping albums\; it's easy to see why The Texas Tenors are America's favorite new tenors.  Since their whirlwind debut six years ago on NBC's America's Got Talent\, The Texas Tenors have accumulated a long list of awards\, accolades and excited fans.  They have performed more than 1000 concerts around the world\, including a 24-city tour in the United Kingdom\, Shanghai\, China and collaborations with some of the most prestigious symphonies\, performing arts centers and arenas in the United States.  People are clearly enjoying their talent as they were recently named the #10 Classical Artist in the world according to Billboard magazine.\n\n\n\nFrom Bruno Mars to Puccini\, Marcus Collins\, John Hagen and JC Fisher treat audiences to a unique blend of country\, classical\, Broadway and current pop music.  They use breathtaking vocals\, humor and a touch of cowboy charm to create an unforgettable live show.
X-ALT-DESC;FMTTYPE=text/html:With their Emmy Award winning PBS special now airing across the country\, and Billboard chart topping albums\; it&#39\;s easy to see why The Texas Tenors are America&#39\;s favorite new tenors.&nbsp\; Since their whirlwind debut six years ago on NBC&#39\;s America&#39\;s Got Talent\, The Texas Tenors have accumulated a long list of awards\, accolades and excited fans.&nbsp\; They have performed more than 1000 concerts around the world\, including a 24-city tour in the United Kingdom\, Shanghai\, China and collaborations with some of the most prestigious symphonies\, performing arts centers and arenas in the United States.&nbsp\; People are clearly enjoying their talent as they were recently named the #10 Classical Artist in the world according to Billboard magazine.<br />\n<br />\nFrom Bruno Mars to Puccini\, Marcus Collins\, John Hagen and JC Fisher treat audiences to a unique blend of country\, classical\, Broadway and current pop music.&nbsp\; They use breathtaking vocals\, humor and a touch of cowboy charm to create an unforgettable live show.
LOCATION:Midwest Theater 1707 Broadway Scottsbluff\, NE
UID:e.1913.3435
SEQUENCE:3
DTSTAMP:20260423T213235Z
URL:https://business.scottsbluffgering.net/events/details/midwest-theater-presents-the-texas-tenors-3435
END:VEVENT

END:VCALENDAR
