BEGIN:VCALENDAR
VERSION:2.0
PRODID:-//ChamberMaster//Event Calendar 2.0//EN
METHOD:PUBLISH
X-PUBLISHED-TTL:P3D
REFRESH-INTERVAL:P3D
CALSCALE:GREGORIAN
BEGIN:VEVENT
DTSTART:20230715T013000Z
DTEND:20230715T030000Z
X-MICROSOFT-CDO-ALLDAYEVENT:FALSE
SUMMARY:Guys and Dolls in Concert presented by Theatre West
DESCRIPTION:Guys and Dolls in Concert\n\n\n\nConsidered by many to be the perfect musical comedy\, Guys and Dolls ran for 1\,200 performances when it opened on Broadway. Set in Damon Runyon's mythical New York City\, Guys and Dolls is an oddball romantic comedy. Guys and Dolls takes us from the heart of Times Square to the cafes of Havana\, Cuba\, and even into the sewers of New York City\, but eventually everyone ends up right where they belong. This concert version as presented this year at Washington's Kennedy Center\, spotlights Frank Loesser's brassy\, immortal score that makes Guys and Dolls a crowd pleaser.
X-ALT-DESC;FMTTYPE=text/html:Guys and Dolls in Concert<br />\n<br />\nConsidered by many to be the perfect musical comedy\, Guys and Dolls ran for 1\,200 performances when it opened on Broadway. Set in Damon Runyon&rsquo\;s mythical New York City\, Guys and Dolls is an oddball romantic comedy. Guys and Dolls takes us from the heart of Times Square to the cafes of Havana\, Cuba\, and even into the sewers of New York City\, but eventually everyone ends up right where they belong. This concert version as presented this year at Washington&rsquo\;s Kennedy Center\, spotlights Frank Loesser&rsquo\;s brassy\, immortal score that makes Guys and Dolls a crowd pleaser.
LOCATION:Theatre West 1601 E 27th Street Scottsbluff
UID:e.1913.10037
SEQUENCE:3
DTSTAMP:20260423T182103Z
URL:https://business.scottsbluffgering.net/events/details/guys-and-dolls-in-concert-presented-by-theatre-west-10037
END:VEVENT

END:VCALENDAR
