BEGIN:VCALENDAR
VERSION:2.0
PRODID:-//ChamberMaster//Event Calendar 2.0//EN
METHOD:PUBLISH
X-PUBLISHED-TTL:P3D
REFRESH-INTERVAL:P3D
CALSCALE:GREGORIAN
BEGIN:VEVENT
DTSTART:20230609T233000Z
DTEND:20230610T040000Z
X-MICROSOFT-CDO-ALLDAYEVENT:FALSE
SUMMARY:Deaf & Hard of Hearing Awareness Night at the Ballpark
DESCRIPTION:Come join us for a night of fun and learning about hearing loss. We will have the National Anthem signed in American Sign Language as well as Take Me Out to the Ball Game. We will play games to see how good you are at lip reading. Learn facts about hearing loss that you never knew. Visit booths from our local agencies. It will be a great night at the Western Pioneer's baseball game!
X-ALT-DESC;FMTTYPE=text/html:Come join us for a night of fun and learning about hearing loss. We will have the National Anthem signed in American Sign Language as well as Take Me Out to the Ball Game. We will play games to see how good you are at lip reading. Learn facts about hearing loss that you never knew. Visit booths from our local agencies. It will be a great night at the Western Pioneer&#39\;s baseball game!
LOCATION:Oregon Trail Park Stadium 1215 J Street Gering\, NE
UID:e.1913.9963
SEQUENCE:3
DTSTAMP:20260423T182238Z
URL:https://business.scottsbluffgering.net/events/details/deaf-hard-of-hearing-awareness-night-at-the-ballpark-06-09-2023-9963
END:VEVENT

END:VCALENDAR
