BEGIN:VCALENDAR
VERSION:2.0
PRODID:-//ChamberMaster//Event Calendar 2.0//EN
METHOD:PUBLISH
X-PUBLISHED-TTL:P3D
REFRESH-INTERVAL:P3D
CALSCALE:GREGORIAN
BEGIN:VEVENT
DTSTART:20260619T000000Z
DTEND:20260619T030000Z
X-MICROSOFT-CDO-ALLDAYEVENT:FALSE
SUMMARY:Bands on Broadway - 2026 Series
DESCRIPTION:Save the Dates!\n\n\n\nMore information to follow!
X-ALT-DESC;FMTTYPE=text/html:Save the Dates!<br />\n<br />\nMore information to follow!
LOCATION:18th Street Plaza Downtown Scottsbluff
UID:e.1913.10628
SEQUENCE:3
DTSTAMP:20260422T132314Z
URL:https://business.scottsbluffgering.net/events/details/bands-on-broadway-2026-series-06-18-2026-10628
END:VEVENT

END:VCALENDAR
