BEGIN:VCALENDAR
VERSION:2.0
PRODID:-//ChamberMaster//Event Calendar 2.0//EN
METHOD:PUBLISH
X-PUBLISHED-TTL:P3D
REFRESH-INTERVAL:P3D
CALSCALE:GREGORIAN
BEGIN:VEVENT
DTSTART:20260612T000000Z
DTEND:20260612T030000Z
X-MICROSOFT-CDO-ALLDAYEVENT:FALSE
SUMMARY:Bands on Broadway - 2026 Series
DESCRIPTION:Save the Dates!\n\n\n\nMore information to follow!
X-ALT-DESC;FMTTYPE=text/html:Save the Dates!<br />\n<br />\nMore information to follow!
LOCATION:18th Street Plaza Downtown Scottsbluff
UID:e.1913.10627
SEQUENCE:3
DTSTAMP:20260422T132320Z
URL:https://business.scottsbluffgering.net/events/details/bands-on-broadway-2026-series-06-11-2026-10627
END:VEVENT

END:VCALENDAR
