BEGIN:VCALENDAR
VERSION:2.0
PRODID:-//ChamberMaster//Event Calendar 2.0//EN
METHOD:PUBLISH
X-PUBLISHED-TTL:P3D
REFRESH-INTERVAL:P3D
CALSCALE:GREGORIAN
BEGIN:VEVENT
DTSTART:20230603T013000Z
DTEND:20230603T013000Z
X-MICROSOFT-CDO-ALLDAYEVENT:FALSE
SUMMARY:Are You There God? It's Me Margaret presented by Midwest Theater
DESCRIPTION:Are You There God? It's Me\, Margaret.\n\n\n\nEleven-year-old Margaret moves to a new town and starts to contemplate everything about life\, friendship and adolescence.  She relies on her mother\, Barbara\, who offers loving support\, and her grandmother\, Sylvia\, who's coming to terms with finding happiness in the next phase of her life.  Questions of identity\, one's place in the world\, and what brings meaning to life soon brings them closer together than ever before.\n\n\n\nDoors open Friday\, June 2\, at 6:45 p.m.\, Saturday\, June 3\, at 5:45 p.m.\, and on Sunday\, June 4\, at 12:45 p.m.
X-ALT-DESC;FMTTYPE=text/html:<strong>Are You There God? It&#39\;s Me\, Margaret.</strong><br />\n<br />\nEleven-year-old Margaret moves to a new town and starts to contemplate everything about life\, friendship and adolescence.&nbsp\; She relies on her mother\, Barbara\, who offers loving support\, and her grandmother\, Sylvia\, who&#39\;s coming to terms with finding happiness in the next phase of her life.&nbsp\; Questions of identity\, one&#39\;s place in the world\, and what brings meaning to life soon brings them closer together than ever before.<br />\n<br />\nDoors open Friday\, June 2\, at 6:45 p.m.\, Saturday\, June 3\, at 5:45 p.m.\, and on Sunday\, June 4\, at 12:45 p.m.
LOCATION:Midwest Theater 1707 Broadway Scottsbluff\, NE
UID:e.1913.10002
SEQUENCE:3
DTSTAMP:20260423T182231Z
URL:https://business.scottsbluffgering.net/events/details/are-you-there-god-it-s-me-margaret-presented-by-midwest-theater-10002
END:VEVENT

END:VCALENDAR
