BEGIN:VCALENDAR
VERSION:2.0
PRODID:-//ChamberMaster//Event Calendar 2.0//EN
METHOD:PUBLISH
X-PUBLISHED-TTL:P3D
REFRESH-INTERVAL:P3D
CALSCALE:GREGORIAN
BEGIN:VEVENT
DTSTART:20200225T020000Z
DTEND:20200225T020000Z
X-MICROSOFT-CDO-ALLDAYEVENT:FALSE
SUMMARY:Knights of Columbus #1874 host "Monday Night Bingo"
DESCRIPTION:Every Monday night of the month. 1719 1st Avenue Scottsbluff.  For more information call 308-632-8197.
X-ALT-DESC;FMTTYPE=text/html:Every Monday night of the month. 1719 1st Avenue Scottsbluff.&nbsp\; For more information call 308-632-8197.
LOCATION:
UID:e.1913.9226
SEQUENCE:3
DTSTAMP:20260419T133816Z
URL:http://business.scottsbluffgering.net/events/details/knights-of-columbus-1874-host-monday-night-bingo-02-24-2020-9226
END:VEVENT

END:VCALENDAR
