BEGIN:VCALENDAR
VERSION:2.0
PRODID:-//ChamberMaster//Event Calendar 2.0//EN
METHOD:PUBLISH
X-PUBLISHED-TTL:P3D
REFRESH-INTERVAL:P3D
CALSCALE:GREGORIAN
BEGIN:VEVENT
DTSTART:20181207T000000Z
DTEND:20181207T020000Z
X-MICROSOFT-CDO-ALLDAYEVENT:FALSE
SUMMARY:Bill & Gretchen Peters Opening Exhibit
DESCRIPTION:There will be an opening reception on Thursday\, December 6th from 5:00 to 7:00 p.m. we will serve wine and hors d' oeuvres. Gallery receptions and exhibits are always free and open to the public and everyone is welcome. Peters art exhibit will run through Sunday\, December 30th.
X-ALT-DESC;FMTTYPE=text/html:There will be an opening reception on Thursday\, December 6th from 5:00 to 7:00 p.m. we will serve wine and hors d&rsquo\; oeuvres. Gallery receptions and exhibits are always free and open to the public and everyone is welcome. Peters art exhibit will run through Sunday\, December 30th.
LOCATION:West Nebraska Arts Center 106 E 18th St Scottsbluff\, NE 69361
UID:e.1913.8529
SEQUENCE:3
DTSTAMP:20260425T025002Z
URL:http://business.scottsbluffgering.net/events/details/bill-gretchen-peters-opening-exhibit-8529
END:VEVENT

END:VCALENDAR
